BEGIN:VCALENDAR
VERSION:2.0
PRODID:-//Stacie Sholer - ECPv6.15.20//NONSGML v1.0//EN
CALSCALE:GREGORIAN
METHOD:PUBLISH
X-ORIGINAL-URL:https://staciemarie.love
X-WR-CALDESC:Events for Stacie Sholer
REFRESH-INTERVAL;VALUE=DURATION:PT1H
X-Robots-Tag:noindex
X-PUBLISHED-TTL:PT1H
BEGIN:VTIMEZONE
TZID:America/Phoenix
BEGIN:STANDARD
TZOFFSETFROM:-0700
TZOFFSETTO:-0700
TZNAME:MST
DTSTART:20240101T000000
END:STANDARD
END:VTIMEZONE
BEGIN:VEVENT
DTSTART;TZID=America/Phoenix:20250413T140000
DTEND;TZID=America/Phoenix:20250413T180000
DTSTAMP:20260424T084815
CREATED:20241029T205313Z
LAST-MODIFIED:20250404T160603Z
UID:9754-1744552800-1744567200@staciemarie.love
SUMMARY:Art from the Heart: Angel Class
DESCRIPTION:A transformative mixed media class where your canvas becomes a manifestation of your soul’s desires. This journey is more than art — it’s a vehicle for self-discovery and connection with others. Through a free-flowing format\, you’ll be guided to explore or remember different aspects of yourself in a welcoming space that encourages vulnerability\, fun\, joy\, and even tears.
URL:https://staciemarie.love/event/art-from-the-heart-angel-class/
LOCATION:Harmonious Living\, Phoenix\, AZ\, 85050\, United States
ATTACH;FMTTYPE=image/jpeg:https://staciemarie.love/wp-content/uploads/2024/10/8AA4D94C-3280-4FCA-9BE6-22FDB2F1AD24-1-e1730236302334.jpeg
ORGANIZER;CN="Stacie Sholer":MAILTO:stacie@staciemarie.love
END:VEVENT
BEGIN:VEVENT
DTSTART;TZID=America/Phoenix:20250427T150000
DTEND;TZID=America/Phoenix:20250427T180000
DTSTAMP:20260424T084815
CREATED:20250117T040133Z
LAST-MODIFIED:20250423T200058Z
UID:9870-1745766000-1745776800@staciemarie.love
SUMMARY:Connecting with the Creator- Group Session
DESCRIPTION:Experience a uniquely personal spiritual journey and find yourself becoming a conduit for blessings and messages from the Creator through this Connecting with the Creator Group Session. \nIn this group session\, Stacie will facilitate a deep connection with the Creator to unveil insights within you. Through this experience\, you’ll discover your soul’s unique essence\, receive inspiration the Creator wishes to share with you about your life\, and forge a strongest connection to the Christ consciousness. \nConnecting with the Creator delve into a profound 90 minute journey where you become a conduit for blessings and messages from the Creator. In this group session\, I facilitate a deep connection with the Creator to unveil insights within you. Through this\, you’ll discover your soul’s unique essence\, receive inspiration the Creator wishes to share with you about your life\, and forge a strongest connection to the Christ consciousness. This transformative session provides a deep discovery and acceptance of your true self\, giving you tools and wisdom to create a more harmonious life. You will also address any burning questions and find clarity through the Creator’s wisdom.
URL:https://staciemarie.love/event/connecting-with-the-creator-group-session-3/
LOCATION:Harmonious Living\, Phoenix\, AZ\, 85050\, United States
CATEGORIES:Connecting with the Creator- Group Session
ATTACH;FMTTYPE=image/jpeg:https://staciemarie.love/wp-content/uploads/2024/09/balance-breathing-and-young-woman-by-plants-for-z-2023-11-27-05-37-00-utc-scaled.jpg
ORGANIZER;CN="Stacie Sholer":MAILTO:stacie@staciemarie.love
END:VEVENT
BEGIN:VEVENT
DTSTART;TZID=America/Phoenix:20250510T140000
DTEND;TZID=America/Phoenix:20250510T180000
DTSTAMP:20260424T084815
CREATED:20250129T204315Z
LAST-MODIFIED:20250404T160949Z
UID:9905-1746885600-1746900000@staciemarie.love
SUMMARY:Art from the Heart: Mandala Class
DESCRIPTION:A transformative mixed media class where your canvas becomes a manifestation of your soul’s desires. This journey is more than art — it’s a vehicle for self-discovery and connection with others. Through a free-flowing format\, you’ll be guided to explore or remember different aspects of yourself in a welcoming space that encourages vulnerability\, fun\, joy\, and even tears.
URL:https://staciemarie.love/event/art-from-the-heart-mandala-class-3/
LOCATION:Harmonious Living\, Phoenix\, AZ\, 85050\, United States
CATEGORIES:Art from the Heart Class
ATTACH;FMTTYPE=image/jpeg:https://staciemarie.love/wp-content/uploads/2024/09/1000014326.jpeg
ORGANIZER;CN="Stacie Sholer":MAILTO:stacie@staciemarie.love
END:VEVENT
BEGIN:VEVENT
DTSTART;TZID=America/Phoenix:20250517T120000
DTEND;TZID=America/Phoenix:20250517T150000
DTSTAMP:20260424T084815
CREATED:20250322T151958Z
LAST-MODIFIED:20250519T160107Z
UID:9926-1747483200-1747494000@staciemarie.love
SUMMARY:ZOOM Connecting with the Creator- Group Session
DESCRIPTION:Experience a uniquely personal spiritual journey and find yourself becoming a conduit for blessings and messages from the Creator through this Connecting with the Creator Group Session. \nIn this group session\, Stacie will facilitate a deep connection with the Creator to unveil insights within you. Through this experience\, you’ll discover your soul’s unique essence\, receive inspiration the Creator wishes to share with you about your life\, and forge a strongest connection to the Christ consciousness. \nConnecting with the Creator delve into a profound 90 minute journey where you become a conduit for blessings and messages from the Creator. In this group session\, I facilitate a deep connection with the Creator to unveil insights within you. Through this\, you’ll discover your soul’s unique essence\, receive inspiration the Creator wishes to share with you about your life\, and forge a strongest connection to the Christ consciousness. This transformative session provides a deep discovery and acceptance of your true self\, giving you tools and wisdom to create a more harmonious life. You will also address any burning questions and find clarity through the Creator’s wisdom.
URL:https://staciemarie.love/event/connecting-with-the-creator-group-session-11/
LOCATION:Harmonious Living\, Phoenix\, AZ\, 85050\, United States
CATEGORIES:Connecting with the Creator- Group Session
ATTACH;FMTTYPE=image/jpeg:https://staciemarie.love/wp-content/uploads/2025/03/5X7A9862-scaled.jpg
ORGANIZER;CN="Stacie Sholer":MAILTO:stacie@staciemarie.love
END:VEVENT
BEGIN:VEVENT
DTSTART;TZID=America/Phoenix:20250518T150000
DTEND;TZID=America/Phoenix:20250518T180000
DTSTAMP:20260424T084815
CREATED:20250117T040519Z
LAST-MODIFIED:20250515T190747Z
UID:9873-1747580400-1747591200@staciemarie.love
SUMMARY:Connecting with the Creator- Group Session
DESCRIPTION:Experience a uniquely personal spiritual journey and find yourself becoming a conduit for blessings and messages from the Creator through this Connecting with the Creator Group Session. \nIn this group session\, Stacie will facilitate a deep connection with the Creator to unveil insights within you. Through this experience\, you’ll discover your soul’s unique essence\, receive inspiration the Creator wishes to share with you about your life\, and forge a strongest connection to the Christ consciousness. \nConnecting with the Creator delve into a profound 90 minute journey where you become a conduit for blessings and messages from the Creator. In this group session\, I facilitate a deep connection with the Creator to unveil insights within you. Through this\, you’ll discover your soul’s unique essence\, receive inspiration the Creator wishes to share with you about your life\, and forge a strongest connection to the Christ consciousness. This transformative session provides a deep discovery and acceptance of your true self\, giving you tools and wisdom to create a more harmonious life. You will also address any burning questions and find clarity through the Creator’s wisdom.
URL:https://staciemarie.love/event/connecting-with-the-creator-group-session-4/
LOCATION:Harmonious Living\, Phoenix\, AZ\, 85050\, United States
CATEGORIES:Connecting with the Creator- Group Session
ATTACH;FMTTYPE=image/jpeg:https://staciemarie.love/wp-content/uploads/2025/03/5X7A9862-scaled.jpg
ORGANIZER;CN="Stacie Sholer":MAILTO:stacie@staciemarie.love
END:VEVENT
BEGIN:VEVENT
DTSTART;TZID=America/Phoenix:20250628T120000
DTEND;TZID=America/Phoenix:20250628T150000
DTSTAMP:20260424T084815
CREATED:20250519T155350Z
LAST-MODIFIED:20250617T143831Z
UID:10012-1751112000-1751122800@staciemarie.love
SUMMARY:ZOOM Connecting with the Creator- Group Session
DESCRIPTION:Experience a uniquely personal spiritual journey and find yourself becoming a conduit for blessings and messages from the Creator through this Connecting with the Creator Group Session. \nIn this group session\, Stacie will facilitate a deep connection with the Creator to unveil insights within you. Through this experience\, you’ll discover your soul’s unique essence\, receive inspiration the Creator wishes to share with you about your life\, and forge a strongest connection to the Christ consciousness. \nConnecting with the Creator delve into a profound 90 minute journey where you become a conduit for blessings and messages from the Creator. In this group session\, I facilitate a deep connection with the Creator to unveil insights within you. Through this\, you’ll discover your soul’s unique essence\, receive inspiration the Creator wishes to share with you about your life\, and forge a strongest connection to the Christ consciousness. This transformative session provides a deep discovery and acceptance of your true self\, giving you tools and wisdom to create a more harmonious life. You will also address any burning questions and find clarity through the Creator’s wisdom.
URL:https://staciemarie.love/event/zoom-connecting-with-the-creator-group-session/
LOCATION:Harmonious Living\, Phoenix\, AZ\, 85050\, United States
CATEGORIES:Connecting with the Creator- Group Session
ATTACH;FMTTYPE=image/jpeg:https://staciemarie.love/wp-content/uploads/2025/03/5X7A9862-scaled.jpg
ORGANIZER;CN="Stacie Sholer":MAILTO:stacie@staciemarie.love
END:VEVENT
BEGIN:VEVENT
DTSTART;TZID=America/Phoenix:20250629T150000
DTEND;TZID=America/Phoenix:20250629T180000
DTSTAMP:20260424T084815
CREATED:20250117T040849Z
LAST-MODIFIED:20250617T144054Z
UID:9876-1751209200-1751220000@staciemarie.love
SUMMARY:Connecting with the Creator- Group Session
DESCRIPTION:Experience a uniquely personal spiritual journey and find yourself becoming a conduit for blessings and messages from the Creator through this Connecting with the Creator Group Session. \nIn this group session\, Stacie will facilitate a deep connection with the Creator to unveil insights within you. Through this experience\, you’ll discover your soul’s unique essence\, receive inspiration the Creator wishes to share with you about your life\, and forge a strongest connection to the Christ consciousness. \nConnecting with the Creator delve into a profound 90 minute journey where you become a conduit for blessings and messages from the Creator. In this group session\, I facilitate a deep connection with the Creator to unveil insights within you. Through this\, you’ll discover your soul’s unique essence\, receive inspiration the Creator wishes to share with you about your life\, and forge a strongest connection to the Christ consciousness. This transformative session provides a deep discovery and acceptance of your true self\, giving you tools and wisdom to create a more harmonious life. You will also address any burning questions and find clarity through the Creator’s wisdom.
URL:https://staciemarie.love/event/connecting-with-the-creator-group-session-5/
LOCATION:Harmonious Living\, Phoenix\, AZ\, 85050\, United States
CATEGORIES:Connecting with the Creator- Group Session
ATTACH;FMTTYPE=image/jpeg:https://staciemarie.love/wp-content/uploads/2025/03/5X7A9862-scaled.jpg
ORGANIZER;CN="Stacie Sholer":MAILTO:stacie@staciemarie.love
END:VEVENT
BEGIN:VEVENT
DTSTART;TZID=America/Phoenix:20250719T120000
DTEND;TZID=America/Phoenix:20250719T150000
DTSTAMP:20260424T084815
CREATED:20250519T155828Z
LAST-MODIFIED:20250609T222209Z
UID:10015-1752926400-1752937200@staciemarie.love
SUMMARY:ZOOM Connecting with the Creator- Group Session
DESCRIPTION:Experience a uniquely personal spiritual journey and find yourself becoming a conduit for blessings and messages from the Creator through this Connecting with the Creator Group Session. \nIn this group session\, Stacie will facilitate a deep connection with the Creator to unveil insights within you. Through this experience\, you’ll discover your soul’s unique essence\, receive inspiration the Creator wishes to share with you about your life\, and forge a strongest connection to the Christ consciousness. \nConnecting with the Creator delve into a profound 90 minute journey where you become a conduit for blessings and messages from the Creator. In this group session\, I facilitate a deep connection with the Creator to unveil insights within you. Through this\, you’ll discover your soul’s unique essence\, receive inspiration the Creator wishes to share with you about your life\, and forge a strongest connection to the Christ consciousness. This transformative session provides a deep discovery and acceptance of your true self\, giving you tools and wisdom to create a more harmonious life. You will also address any burning questions and find clarity through the Creator’s wisdom.
URL:https://staciemarie.love/event/zoom-connecting-with-the-creator-group-session-2/
LOCATION:Harmonious Living\, Phoenix\, AZ\, 85050\, United States
CATEGORIES:Connecting with the Creator- Group Session
ATTACH;FMTTYPE=image/jpeg:https://staciemarie.love/wp-content/uploads/2025/03/5X7A9862-scaled.jpg
ORGANIZER;CN="Stacie Sholer":MAILTO:stacie@staciemarie.love
END:VEVENT
BEGIN:VEVENT
DTSTART;TZID=America/Phoenix:20250727T100000
DTEND;TZID=America/Phoenix:20250727T180000
DTSTAMP:20260424T084815
CREATED:20241029T222607Z
LAST-MODIFIED:20250603T214122Z
UID:9772-1753610400-1753639200@staciemarie.love
SUMMARY:Soul Collage
DESCRIPTION:This intimate\, intuitive collage process is an expressive arts practice that encourages self-discovery and provides personal guidance. \nThe session begins with a guided meditation leading you through a beautiful journey within\, where you will discover the spirit animal that lives in one of your chakras. \nThroughout the experience\, you will create a collective connection with the other participants. \nStacie provides gentle\, nurturing guidance in a safe\, loving environment. Through this experience you will create your own deck of collaged cards from found images which will help you discover your unique inner and outer guides\, challengers and access wisdom to answer your life questions.
URL:https://staciemarie.love/event/soul-collage/
LOCATION:AZ
ATTACH;FMTTYPE=image/jpeg:https://staciemarie.love/wp-content/uploads/2024/09/90BBBB27-8440-4A43-9F61-71B321364D30.jpeg
END:VEVENT
BEGIN:VEVENT
DTSTART;TZID=America/Phoenix:20250817T100000
DTEND;TZID=America/Phoenix:20250817T180000
DTSTAMP:20260424T084815
CREATED:20250427T165505Z
LAST-MODIFIED:20250817T161211Z
UID:9950-1755424800-1755453600@staciemarie.love
SUMMARY:Art from the Heart: Spirit Guide Class
DESCRIPTION:A transformative mixed media class where your canvas becomes a manifestation of your soul’s desires. This journey is more than art — it’s a vehicle for self-discovery and connection with others. Through a free-flowing format\, you’ll be guided to explore or remember different aspects of yourself in a welcoming space that encourages vulnerability\, fun\, joy\, and even tears.
URL:https://staciemarie.love/event/art-from-the-heart-spirit-guide-class/
LOCATION:Harmonious Living\, Phoenix\, AZ\, 85050\, United States
CATEGORIES:Art from the Heart Class
ATTACH;FMTTYPE=image/jpeg:https://staciemarie.love/wp-content/uploads/2025/04/IMG_8630.jpeg
ORGANIZER;CN="Stacie Sholer":MAILTO:stacie@staciemarie.love
END:VEVENT
BEGIN:VEVENT
DTSTART;TZID=America/Phoenix:20260104T140000
DTEND;TZID=America/Phoenix:20260104T180000
DTSTAMP:20260424T084815
CREATED:20251028T211107Z
LAST-MODIFIED:20251210T221113Z
UID:10271-1767535200-1767549600@staciemarie.love
SUMMARY:Vision Board Workshop
DESCRIPTION:Making a vision board isn’t just a fun thing to do at the start of a new year. It’s a great exercise for any time of the year to help you re-center\, align on your goals & get crystal clear on what you will create next! \nStacie’s vision board creation is a collaborative\, spiritual experience where you may realize the dreams that have been sleeping within you\, expanding on them\, and remembering things that you may not realize have been dormant.
URL:https://staciemarie.love/event/vision-board-workshop-2/
LOCATION:Harmonious Living\, Phoenix\, AZ\, 85050\, United States
CATEGORIES:Art from the Heart Class
ATTACH;FMTTYPE=image/jpeg:https://staciemarie.love/wp-content/uploads/2024/09/IMG_3159-scaled-e1725325530254.jpg
ORGANIZER;CN="Stacie Sholer":MAILTO:stacie@staciemarie.love
END:VEVENT
BEGIN:VEVENT
DTSTART;TZID=America/Phoenix:20260315T100000
DTEND;TZID=America/Phoenix:20260315T180000
DTSTAMP:20260424T084815
CREATED:20251227T175324Z
LAST-MODIFIED:20260219T183418Z
UID:10388-1773568800-1773597600@staciemarie.love
SUMMARY:Soul Collage
DESCRIPTION:This intimate\, intuitive collage process is an expressive arts practice that encourages self-discovery and provides personal guidance. \nThe session begins with a guided meditation leading you through a beautiful journey within\, where you will discover the spirit animal that lives in one of your chakras. \nThroughout the experience\, you will create a collective connection with the other participants. \nStacie provides gentle\, nurturing guidance in a safe\, loving environment. Through this experience you will create your own deck of collaged cards from found images which will help you discover your unique inner and outer guides\, challengers and access wisdom to answer your life questions.
URL:https://staciemarie.love/event/soul-collage-2/
LOCATION:AZ
ATTACH;FMTTYPE=image/jpeg:https://staciemarie.love/wp-content/uploads/2024/09/90BBBB27-8440-4A43-9F61-71B321364D30.jpeg
END:VEVENT
BEGIN:VEVENT
DTSTART;TZID=America/Phoenix:20260821T100000
DTEND;TZID=America/Phoenix:20260823T203000
DTSTAMP:20260424T084815
CREATED:20240902T172421Z
LAST-MODIFIED:20260305T060040Z
UID:9340-1787306400-1787517000@staciemarie.love
SUMMARY:The Heartist Journey Weekend Workshop
DESCRIPTION:The entire weekend workshop is dedicated to deepening the divine love inside of you and connecting with the collective that is called to attend this beautiful event with you. \nTimes: \nAugust 21 = 10AM-7:30PM \nAugust 22 = 9AM-8:30PM \nAugust 23 = 9AM-8:30PM \nSome of the exercises we will be experiencing together: \n\nConnecting with the Creator\nCreating art on a canvas\nSound Meditation\nJournaling\nSound Healing\nClosing Ceremony Initiation\nRelease/Forgiveness Exercises\nCacao Ceremony\nPartner breakout exercises
URL:https://staciemarie.love/event/the-heartist-journey-weekend-workshop/
LOCATION:Harmonious Living\, Phoenix\, AZ\, 85050\, United States
CATEGORIES:Weekend Workshop
ATTACH;FMTTYPE=image/png:https://staciemarie.love/wp-content/uploads/2024/09/Heartist-Journey.png
ORGANIZER;CN="Stacie Sholer":MAILTO:stacie@staciemarie.love
END:VEVENT
BEGIN:VEVENT
DTSTART;TZID=America/Phoenix:20261106T100000
DTEND;TZID=America/Phoenix:20261108T203000
DTSTAMP:20260424T084815
CREATED:20260220T033516Z
LAST-MODIFIED:20260220T033516Z
UID:10482-1793959200-1794169800@staciemarie.love
SUMMARY:The Heartist Journey Weekend Workshop
DESCRIPTION:The entire weekend workshop is dedicated to deepening the divine love inside of you and connecting with the collective that is called to attend this beautiful event with you. \nTimes: \nNovember 6 = 10AM-7:30PM \nNovember 7 = 9AM-8:30PM \nNovember 8 = 9AM-8:30PM \nSome of the exercises we will be experiencing together: \n\nConnecting with the Creator\nCreating art on a canvas\nSound Meditation\nJournaling\nSound Healing\nClosing Ceremony Initiation\nRelease/Forgiveness Exercises\nCacao Ceremony\nPartner breakout exercises
URL:https://staciemarie.love/event/the-heartist-journey-weekend-workshop-2/
LOCATION:Harmonious Living\, Phoenix\, AZ\, 85050\, United States
CATEGORIES:Weekend Workshop
ATTACH;FMTTYPE=image/png:https://staciemarie.love/wp-content/uploads/2024/09/Heartist-Journey.png
ORGANIZER;CN="Stacie Sholer":MAILTO:stacie@staciemarie.love
END:VEVENT
END:VCALENDAR