BEGIN:VCALENDAR
VERSION:2.0
PRODID:-//Stacie Sholer - ECPv6.15.20//NONSGML v1.0//EN
CALSCALE:GREGORIAN
METHOD:PUBLISH
X-ORIGINAL-URL:https://staciemarie.love
X-WR-CALDESC:Events for Stacie Sholer
REFRESH-INTERVAL;VALUE=DURATION:PT1H
X-Robots-Tag:noindex
X-PUBLISHED-TTL:PT1H
BEGIN:VTIMEZONE
TZID:America/Phoenix
BEGIN:STANDARD
TZOFFSETFROM:-0700
TZOFFSETTO:-0700
TZNAME:MST
DTSTART:20230101T000000
END:STANDARD
END:VTIMEZONE
BEGIN:VEVENT
DTSTART;TZID=America/Phoenix:20250223T150000
DTEND;TZID=America/Phoenix:20250223T180000
DTSTAMP:20260423T102851
CREATED:20250103T165402Z
LAST-MODIFIED:20250213T190711Z
UID:9854-1740322800-1740333600@staciemarie.love
SUMMARY:Connecting with the Creator- Group Session
DESCRIPTION:Experience a uniquely personal spiritual journey and find yourself becoming a conduit for blessings and messages from the Creator through this Connecting with the Creator Group Session. \nIn this group session\, Stacie will facilitate a deep connection with the Creator to unveil insights within you. Through this experience\, you’ll discover your soul’s unique essence\, receive inspiration the Creator wishes to share with you about your life\, and forge a strongest connection to the Christ consciousness. \nConnecting with the Creator delve into a profound 90 minute journey where you become a conduit for blessings and messages from the Creator. In this group session\, I facilitate a deep connection with the Creator to unveil insights within you. Through this\, you’ll discover your soul’s unique essence\, receive inspiration the Creator wishes to share with you about your life\, and forge a strongest connection to the Christ consciousness. This transformative session provides a deep discovery and acceptance of your true self\, giving you tools and wisdom to create a more harmonious life. You will also address any burning questions and find clarity through the Creator’s wisdom.
URL:https://staciemarie.love/event/connecting-with-the-creator-group-session-2/
LOCATION:Harmonious Living\, Phoenix\, AZ\, 85050\, United States
CATEGORIES:Connecting with the Creator- Group Session
ATTACH;FMTTYPE=image/jpeg:https://staciemarie.love/wp-content/uploads/2024/09/balance-breathing-and-young-woman-by-plants-for-z-2023-11-27-05-37-00-utc-scaled.jpg
ORGANIZER;CN="Stacie Sholer":MAILTO:stacie@staciemarie.love
END:VEVENT
BEGIN:VEVENT
DTSTART;TZID=America/Phoenix:20250126T150000
DTEND;TZID=America/Phoenix:20250126T180000
DTSTAMP:20260423T102851
CREATED:20241029T203923Z
LAST-MODIFIED:20250124T201857Z
UID:9749-1737903600-1737914400@staciemarie.love
SUMMARY:Connecting with the Creator- Group Session
DESCRIPTION:Experience a uniquely personal spiritual journey and find yourself becoming a conduit for blessings and messages from the Creator through this Connecting with the Creator Group Session. \nIn this group session\, Stacie will facilitate a deep connection with the Creator to unveil insights within you. Through this experience\, you’ll discover your soul’s unique essence\, receive inspiration the Creator wishes to share with you about your life\, and forge a strongest connection to the Christ consciousness. \nConnecting with the Creator delve into a profound 90 minute journey where you become a conduit for blessings and messages from the Creator. In this group session\, I facilitate a deep connection with the Creator to unveil insights within you. Through this\, you’ll discover your soul’s unique essence\, receive inspiration the Creator wishes to share with you about your life\, and forge a strongest connection to the Christ consciousness. This transformative session provides a deep discovery and acceptance of your true self\, giving you tools and wisdom to create a more harmonious life. You will also address any burning questions and find clarity through the Creator’s wisdom.
URL:https://staciemarie.love/event/connecting-with-the-creator-group-session/
LOCATION:Harmonious Living\, Phoenix\, AZ\, 85050\, United States
CATEGORIES:Connecting with the Creator- Group Session
ATTACH;FMTTYPE=image/jpeg:https://staciemarie.love/wp-content/uploads/2024/09/balance-breathing-and-young-woman-by-plants-for-z-2023-11-27-05-37-00-utc-scaled.jpg
ORGANIZER;CN="Stacie Sholer":MAILTO:stacie@staciemarie.love
END:VEVENT
BEGIN:VEVENT
DTSTART;TZID=America/Phoenix:20250105T140000
DTEND;TZID=America/Phoenix:20250105T180000
DTSTAMP:20260423T102851
CREATED:20240902T172819Z
LAST-MODIFIED:20250103T170122Z
UID:9344-1736085600-1736100000@staciemarie.love
SUMMARY:Vision Board Workshop
DESCRIPTION:Making a vision board isn’t just a fun thing to do at the start of a new year. It’s a great exercise for any time of the year to help you re-center and align on your goals. \nStacie’s vision board creation is a collaborative\, spiritual experience where you may realize the dreams that have been sleeping within you\, expanding on them\, and remembering things that you may not realize have been dormant.
URL:https://staciemarie.love/event/vision-board-workshop/
LOCATION:Harmonious Living\, Phoenix\, AZ\, 85050\, United States
CATEGORIES:Art from the Heart Class
ATTACH;FMTTYPE=image/jpeg:https://staciemarie.love/wp-content/uploads/2024/09/IMG_3159-scaled-e1725325530254.jpg
ORGANIZER;CN="Stacie Sholer":MAILTO:stacie@staciemarie.love
END:VEVENT
BEGIN:VEVENT
DTSTART;TZID=America/Phoenix:20241229T150000
DTEND;TZID=America/Phoenix:20241229T180000
DTSTAMP:20260423T102851
CREATED:20240923T185408Z
LAST-MODIFIED:20241215T165442Z
UID:9695-1735484400-1735495200@staciemarie.love
SUMMARY:Connecting with the Creator- Group Session
DESCRIPTION:Experience a uniquely personal spiritual journey and find yourself becoming a conduit for blessings and messages from the Creator through this Connecting with the Creator Group Session. \nIn this group session\, Stacie will facilitate a deep connection with the Creator to unveil insights within you. Through this experience\, you’ll discover your soul’s unique essence\, receive inspiration the Creator wishes to share with you about your life\, and forge a strongest connection to the Christ consciousness. \nConnecting with the Creator delve into a profound 90 minute journey where you become a conduit for blessings and messages from the Creator. In this group session\, I facilitate a deep connection with the Creator to unveil insights within you. Through this\, you’ll discover your soul’s unique essence\, receive inspiration the Creator wishes to share with you about your life\, and forge a strongest connection to the Christ consciousness. This transformative session provides a deep discovery and acceptance of your true self\, giving you tools and wisdom to create a more harmonious life. You will also address any burning questions and find clarity through the Creator’s wisdom.
URL:https://staciemarie.love/event/soul-prayer-group-session-4/
LOCATION:Harmonious Living\, Phoenix\, AZ\, 85050\, United States
CATEGORIES:Connecting with the Creator- Group Session
ATTACH;FMTTYPE=image/jpeg:https://staciemarie.love/wp-content/uploads/2024/09/balance-breathing-and-young-woman-by-plants-for-z-2023-11-27-05-37-00-utc-scaled.jpg
ORGANIZER;CN="Stacie Sholer":MAILTO:stacie@staciemarie.love
END:VEVENT
BEGIN:VEVENT
DTSTART;TZID=America/Phoenix:20241208T140000
DTEND;TZID=America/Phoenix:20241208T180000
DTSTAMP:20260423T102851
CREATED:20240901T172550Z
LAST-MODIFIED:20241125T181906Z
UID:9342-1733666400-1733680800@staciemarie.love
SUMMARY:Art from the Heart: Mandala Class
DESCRIPTION:A transformative mixed media class where your canvas becomes a manifestation of your soul’s desires. This journey is more than art — it’s a vehicle for self-discovery and connection with others. Through a free-flowing format\, you’ll be guided to explore or remember different aspects of yourself in a welcoming space that encourages vulnerability\, fun\, joy\, and even tears.
URL:https://staciemarie.love/event/art-from-the-heart-mandala-class/
LOCATION:Harmonious Living\, Phoenix\, AZ\, 85050\, United States
CATEGORIES:Art from the Heart Class
ATTACH;FMTTYPE=image/jpeg:https://staciemarie.love/wp-content/uploads/2024/09/1000014323-scaled.jpg
ORGANIZER;CN="Stacie Sholer":MAILTO:stacie@staciemarie.love
END:VEVENT
BEGIN:VEVENT
DTSTART;TZID=America/Phoenix:20241027T150000
DTEND;TZID=America/Phoenix:20241027T180000
DTSTAMP:20260423T102851
CREATED:20240923T184352Z
LAST-MODIFIED:20240930T172519Z
UID:9686-1730041200-1730052000@staciemarie.love
SUMMARY:Connecting with the Creator- Group Session
DESCRIPTION:Experience a uniquely personal spiritual journey and find yourself becoming a conduit for blessings and messages from the Creator through this Connecting with the Creator Group Session. \nIn this group session\, Stacie will facilitate a deep connection with the Creator to unveil insights within you. Through this experience\, you’ll discover your soul’s unique essence\, receive inspiration the Creator wishes to share with you about your life\, and forge a strongest connection to the Christ consciousness. \nConnecting with the Creator delve into a profound 90 minute journey where you become a conduit for blessings and messages from the Creator. In this group session\, I facilitate a deep connection with the Creator to unveil insights within you. Through this\, you’ll discover your soul’s unique essence\, receive inspiration the Creator wishes to share with you about your life\, and forge a strongest connection to the Christ consciousness. This transformative session provides a deep discovery and acceptance of your true self\, giving you tools and wisdom to create a more harmonious life. You will also address any burning questions and find clarity through the Creator’s wisdom.
URL:https://staciemarie.love/event/soul-prayer-group-session/
LOCATION:Harmonious Living\, Phoenix\, AZ\, 85050\, United States
ATTACH;FMTTYPE=image/jpeg:https://staciemarie.love/wp-content/uploads/2024/09/balance-breathing-and-young-woman-by-plants-for-z-2023-11-27-05-37-00-utc-scaled.jpg
ORGANIZER;CN="Stacie Sholer":MAILTO:stacie@staciemarie.love
END:VEVENT
BEGIN:VEVENT
DTSTART;TZID=America/Phoenix:20240921T180000
DTEND;TZID=America/Phoenix:20240921T210000
DTSTAMP:20260423T102851
CREATED:20240902T172044Z
LAST-MODIFIED:20240903T221029Z
UID:9338-1726941600-1726952400@staciemarie.love
SUMMARY:Kirtan
DESCRIPTION:Kirtan is a very different kind of music. Based on ancient chants\, it has the ability to quiet the mind if listened to with intention. Everyone experiences kirtan differently\, and it doesn’t have to be a religious experience. You can think of it as a sing-along. A kirtan concert is not your typical concert either. Everyone sits on the floor\, although chairs are usually available. The performers are accessible\, in fact there’s not much of a distinction between performers & audience. The wallah (leader) sings the mantra\, and the audience sings it back. A single chant can go on for up to forty minutes. As you sing with each other you experience a deep connection with the musicians\, the other audience members and yourself. And when the music stops\, your mind is quiet.\nBecause kirtan has roots in India\, many of the songs are sung in Sanskrit. If you’ve ever chanted responses in Latin or Hebrew in your religious tradition\, then you know how powerful singing in an ancient\, holy language can be. You can be completely immersed in the sound\, with no words to distract the mind. The magic of the chants can then carry you within. \nKirtan is non-denominational\, the Universal language of Spirit\, the song of the Soul. \nCost: Donation
URL:https://staciemarie.love/event/kirtan/
LOCATION:Harmonious Living\, Phoenix\, AZ\, 85050\, United States
CATEGORIES:Kirtan
ATTACH;FMTTYPE=image/jpeg:https://staciemarie.love/wp-content/uploads/2024/09/IMG_5392.jpeg
ORGANIZER;CN="Stacie Sholer":MAILTO:stacie@staciemarie.love
END:VEVENT
BEGIN:VEVENT
DTSTART;TZID=America/Phoenix:20240814T180000
DTEND;TZID=America/Phoenix:20240814T210000
DTSTAMP:20260423T102851
CREATED:20240812T075706Z
LAST-MODIFIED:20241024T163927Z
UID:9188-1723658400-1723669200@staciemarie.love
SUMMARY:Group Soul Prayer Session (Soul Prayers)
DESCRIPTION:I am so honored to experience our group soul prayer session. \nPlease note: We will run from 6pm until about 9pm. Please arrive as early as 5:50pm. \nParking: please note this is an industrial building and you are free to park wherever you like as all offices will be closed\, except for ours of course. \nWhat to bring: You\, water bottle\, journal\, and pen. \n 
URL:https://staciemarie.love/event/group-soul-prayer-session/
CATEGORIES:Connecting with the Creator- Group Session
ORGANIZER;CN="Stacie Sholer":MAILTO:stacie@staciemarie.love
END:VEVENT
END:VCALENDAR